BEGIN:VCALENDAR
PRODID:-//http://www.eeama.org.au//NONSGML jCal Pro 2.2.7.441//
VERSION:2.0
BEGIN:VEVENT
UID:-1
DTSTAMP:20190228T171522Z
CONTACT:Con Papadopoulos 03 9469 3066
DESCRIPTION:<p>Fortnightly Wednesday Luncheon for members</p>\n<p>Commences
  11:00am</p>
DTEND:20190313T050000Z
DTSTART:20190313T000000Z
LAST-MODIFIED:20180618T050200Z
SUMMARY:Wednesday Luncheon
END:VEVENT
END:VCALENDAR
